Workbook

Sheet NOTICE
D2: NOTICE
B6: Lors de la mise en stage, la collectivité a un an pour effectuer la reprise d'ancienneté de l'agent. (art. 8 décret n°2016-596 du 12 mai 2016)
B7: L'agent doit impérativement avoir le choix entre sa reprise de service public et sa reprise de service privé.
B9: Utilisation des tableaux de calcul
A11: ATTENTION | B11: Les tableaux de service public et celui de service privé ont le même fonctionnement.
B12: Uniquement les cellues blanches doivent être remplies.
B13: Les cellules colorées contiennent des formules qui ne doivent pas être modifiées afin que le calcul puisse s'effectuer correctement.
B15: Ainsi les cellules à remplir sont les suivantes :
B16: - Nom et prénom de l'agent
B17: - Employeur
B18: - Début
B19: - Fin
B20: - Durée légale de travail hebdomadaire : à remplir à partir du tableau récapitulatif "Durée légale de travail hebdomadaire"
B21: - Durée hebdomadaire de travail de l'agent sur la periode (en heures et minutes) : une table de concordance est à disposition pour le calcul
B24: La feuille "Total" s'alimente automatiquement, elle permet un récapitulatif des services de l'agent
B25: Cette feuille doit être complétée et signée par l'agent et retournée avec l'arrêté de nomination stagiaire intial ou modifié suite à reprise au CDG.

Sheet Service public
A1: Calcul de reprise des services antérieurs échelle C1 et agent de maîtrise
A4: Attention : Ceci est un simulateur, vous devez compléter les parties en blanc dans le tableau afin de procéder à votre simulation.
B6: Nom et prénom de l'agent :
D8: Nombre de jours | E8: Années | F8: Mois | G8: Jours | I8: Nombre de jours repris 3/4 | J8: Années | K8: Mois | L8: Jours
A9: Cumul d'ancienneté | D9: =SUM(G12:G430) -> 211 | E9: =INT((SUM(G12:G430))/360) -> 0 | F9: =INT((D9/30)-(E9*12)) -> 7 | G9: =(SUM(G12:G430)-((E9*360)+(F9*30))) -> 1 | I9: =(SUM(G12:G492)*3/4) -> 158.25 | J9: =INT(I9/360) -> 0 | K9: =INT((I9/30)-J9*12) -> 5 | L9: =I9-((J9*360)+K9*30) -> 8.25
A11: Employeur | B11: Début | C11: Fin | D11: Période | E11: Durée légale de travail hebdomadaire* | F11: Durée hebdomadaire de travail de l'agent sur la periode (en heures et minutes) | G11: Equivalent temps plein (en jours) | I11: Durée légale de travail hebdomadaire*
A12: Exemple | B12: 35796 | C12: 36006 | D12: =IF(B12="","",DATEDIF(B12,C12,"d")+1) -> 211 | E12: 39 | F12: 39 | G12: =IF(D12="","",IF(F12>=E12,D12*(E12/E12),D12*(F12/E12))) -> 211 | I12: A partir du 01/06/1968 | J12: 44
D13: =IF(B13="","",DATEDIF(B13,C13,"d")+1) | G13: =IF(D13="","",IF(F13>=E13,D13*(E13/E13),D13*(F13/E13))) | I13: A partir du 01/07/1972 | J13: 43
D14: =IF(B14="","",DATEDIF(B14,C14,"d")+1) | G14: =IF(D14="","",IF(F14>=E14,D14*(E14/E14),D14*(F14/E14))) | I14: A partir du 01/10/1973 | J14: 42.5
D15: =IF(B15="","",DATEDIF(B15,C15,"d")+1) | G15: =IF(D15="","",IF(F15>=E15,D15*(E15/E15),D15*(F15/E15))) | I15: A partir du 01/10/1975 | J15: 41.5
D16: =IF(B16="","",DATEDIF(B16,C16,"d")+1) | G16: =IF(D16="","",IF(F16>=E16,D16*(E16/E16),D16*(F16/E16))) | I16: A partir du 01/10/1976 | J16: 41
D17: =IF(B17="","",DATEDIF(B17,C17,"d")+1) | G17: =IF(D17="","",IF(F17>=E17,D17*(E17/E17),D17*(F17/E17))) | I17: A partir du 01/01/1982 | J17: 39
D18: =IF(B18="","",DATEDIF(B18,C18,"d")+1) | G18: =IF(D18="","",IF(F18>=E18,D18*(E18/E18),D18*(F18/E18))) | I18: A partir du 01/01/2002 | J18: 35
D19: =IF(B19="","",DATEDIF(B19,C19,"d")+1) | G19: =IF(D19="","",IF(F19>=E19,D19*(E19/E19),D19*(F19/E19)))
D20: =IF(B20="","",DATEDIF(B20,C20,"d")+1) | G20: =IF(D20="","",IF(F20>=E20,D20*(E20/E20),D20*(F20/E20))) | I20: Table de concordance 100ème et minutes
D21: =IF(B21="","",DATEDIF(B21,C21,"d")+1) | G21: =IF(D21="","",IF(F21>=E21,D21*(E21/E21),D21*(F21/E21)))
D22: =IF(B22="","",DATEDIF(B22,C22,"d")+1) | G22: =IF(D22="","",IF(F22>=E22,D22*(E22/E22),D22*(F22/E22))) | I22: Minutes
D23: =IF(B23="","",DATEDIF(B23,C23,"d")+1) | G23: =IF(D23="","",IF(F23>=E23,D23*(E23/E23),D23*(F23/E23))) | I23: Centièmes | J23: =($J$22*100)/60 -> 0
D24: =IF(B24="","",DATEDIF(B24,C24,"d")+1) | G24: =IF(D24="","",IF(F24>=E24,D24*(E24/E24),D24*(F24/E24))) | I24: Centièmes
D25: =IF(B25="","",DATEDIF(B25,C25,"d")+1) | G25: =IF(D25="","",IF(F25>=E25,D25*(E25/E25),D25*(F25/E25))) | I25: Minutes | J25: =($J$24*60)/100 -> 0
D26: =IF(B26="","",DATEDIF(B26,C26,"d")+1) | G26: =IF(D26="","",IF(F26>=E26,D26*(E26/E26),D26*(F26/E26)))
D27: =IF(B27="","",DATEDIF(B27,C27,"d")+1) | G27: =IF(D27="","",IF(F27>=E27,D27*(E27/E27),D27*(F27/E27))) | I27: Pour convertir les minutes en centièmes, utilisez le tableau
D28: =IF(B28="","",DATEDIF(B28,C28,"d")+1) | G28: =IF(D28="","",IF(F28>=E28,D28*(E28/E28),D28*(F28/E28)))
D29: =IF(B29="","",DATEDIF(B29,C29,"d")+1) | G29: =IF(D29="","",IF(F29>=E29,D29*(E29/E29),D29*(F29/E29)))
D30: =IF(B30="","",DATEDIF(B30,C30,"d")+1) | G30: =IF(D30="","",IF(F30>=E30,D30*(E30/E30),D30*(F30/E30)))
D31: =IF(B31="","",DATEDIF(B31,C31,"d")+1) | G31: =IF(D31="","",IF(F31>=E31,D31*(E31/E31),D31*(F31/E31)))
D32: =IF(B32="","",DATEDIF(B32,C32,"d")+1) | G32: =IF(D32="","",IF(F32>=E32,D32*(E32/E32),D32*(F32/E32)))
D33: =IF(B33="","",DATEDIF(B33,C33,"d")+1) | G33: =IF(D33="","",IF(F33>=E33,D33*(E33/E33),D33*(F33/E33)))
D34: =IF(B34="","",DATEDIF(B34,C34,"d")+1) | G34: =IF(D34="","",IF(F34>=E34,D34*(E34/E34),D34*(F34/E34)))
D35: =IF(B35="","",DATEDIF(B35,C35,"d")+1) | G35: =IF(D35="","",IF(F35>=E35,D35*(E35/E35),D35*(F35/E35)))
D36: =IF(B36="","",DATEDIF(B36,C36,"d")+1) | G36: =IF(D36="","",IF(F36>=E36,D36*(E36/E36),D36*(F36/E36)))
D37: =IF(B37="","",DATEDIF(B37,C37,"d")+1) | G37: =IF(D37="","",IF(F37>=E37,D37*(E37/E37),D37*(F37/E37)))
D38: =IF(B38="","",DATEDIF(B38,C38,"d")+1) | G38: =IF(D38="","",IF(F38>=E38,D38*(E38/E38),D38*(F38/E38)))
D39: =IF(B39="","",DATEDIF(B39,C39,"d")+1) | G39: =IF(D39="","",IF(F39>=E39,D39*(E39/E39),D39*(F39/E39)))
... D41: =IF(B41="","",DATEDIF(B41,C41,"d")+1) | G41: =IF(D41="","",IF(F41>=E41,D41*(E41/E41),D41*(F41/E41)))

Sheet Service privé
A1: Calcul de reprise des services antérieurs échelle C1 et agent de maîtrise
A4: Attention : Ceci est un simulateur, vous devez compléter les parties en blanc dans le tableau afin de procéder à votre simulation.
B6: Nom et prénom de l'agent :
D9: Nombre de jours | E9: Années | F9: Mois | G9: Jours | I9: Nombre de jours repris 1/2 | J9: Années | K9: Mois | L9: Jours
A10: Cumul d'ancienneté | D10: =SUM(G13:G469) -> 299.57143 | E10: =INT((SUM(G13:G470))/360) -> 0 | F10: =INT((D10/30)-(E10*12)) -> 9 | G10: =(SUM(G13:G470)-((E10*360)+(F10*30))) -> 29.571429 | I10: =(SUM(G13:G532)*1/2) -> 149.78571 | J10: =INT(I10/360) -> 0 | K10: =INT((I10/30)-J10*12) -> 4 | L10: =I10-((J10*360)+K10*30) -> 29.785714
A12: Employeur | B12: Début | C12: Fin | D12: Période | E12: Durée légale de travail hebdomadaire* | F12: Durée hebdomadaire de travail de l'agent sur la periode (en heures et minutes) | G12: Equivalent temps plein | I12: Durée légale de travail hebdomadaire*
A13: Exemple | B13: 42975 | C13: 43673 | D13: =IF(B13="","",DATEDIF(B13,C13,"d")+1) -> 699 | E13: 35 | F13: 15 | G13: =IF(D13="","",IF(F13>=E13,D13*(E13/E13),D13*(F13/E13))) -> 299.57143 | I13: A partir du 01/06/1968 | J13: 44
D14: =IF(B14="","",DATEDIF(B14,C14,"d")+1) | I14: A partir du 01/07/1972 | J14: 43
D15: =IF(B15="","",DATEDIF(B15,C15,"d")+1) | G15: =IF(D15="","",IF(F15>=E15,D15*(E15/E15),D15*(F15/E15))) | I15: A partir du 01/10/1973 | J15: 42.5
D16: =IF(B16="","",DATEDIF(B16,C16,"d")+1) | G16: =IF(D16="","",IF(F16>=E16,D16*(E16/E16),D16*(F16/E16))) | I16: A partir du 01/10/1975 | J16: 41.5
D17: =IF(B17="","",DATEDIF(B17,C17,"d")+1) | G17: =IF(D17="","",IF(F17>=E17,D17*(E17/E17),D17*(F17/E17))) | I17: A partir du 01/10/1976 | J17: 41
D18: =IF(B18="","",DATEDIF(B18,C18,"d")+1) | G18: =IF(D18="","",IF(F18>=E18,D18*(E18/E18),D18*(F18/E18))) | I18: A partir du 01/01/1982 | J18: 39
D19: =IF(B19="","",DATEDIF(B19,C19,"d")+1) | G19: =IF(D19="","",IF(F19>=E19,D19*(E19/E19),D19*(F19/E19))) | I19: A partir du 01/01/2002 | J19: 35
D20: =IF(B20="","",DATEDIF(B20,C20,"d")+1) | G20: =IF(D20="","",IF(F20>=E20,D20*(E20/E20),D20*(F20/E20)))
D21: =IF(B21="","",DATEDIF(B21,C21,"d")+1) | G21: =IF(D21="","",IF(F21>=E21,D21*(E21/E21),D21*(F21/E21))) | I21: Table de concordance 100ème et minutes
D22: =IF(B22="","",DATEDIF(B22,C22,"d")+1) | G22: =IF(D22="","",IF(F22>=E22,D22*(E22/E22),D22*(F22/E22)))
D23: =IF(B23="","",DATEDIF(B23,C23,"d")+1) | G23: =IF(D23="","",IF(F23>=E23,D23*(E23/E23),D23*(F23/E23))) | I23: Minutes
D24: =IF(B24="","",DATEDIF(B24,C24,"d")+1) | G24: =IF(D24="","",IF(F24>=E24,D24*(E24/E24),D24*(F24/E24))) | I24: Centièmes | J24: =($J$23*100)/60 -> 0
D25: =IF(B25="","",DATEDIF(B25,C25,"d")+1) | G25: =IF(D25="","",IF(F25>=E25,D25*(E25/E25),D25*(F25/E25))) | I25: Centièmes
D26: =IF(B26="","",DATEDIF(B26,C26,"d")+1) | G26: =IF(D26="","",IF(F26>=E26,D26*(E26/E26),D26*(F26/E26))) | I26: Minutes | J26: =($J$25*60)/100 -> 0
D27: =IF(B27="","",DATEDIF(B27,C27,"d")+1) | G27: =IF(D27="","",IF(F27>=E27,D27*(E27/E27),D27*(F27/E27)))
D28: =IF(B28="","",DATEDIF(B28,C28,"d")+1) | G28: =IF(D28="","",IF(F28>=E28,D28*(E28/E28),D28*(F28/E28))) | I28: Pour convertir les minutes en centièmes, utilisez le tableau
D29: =IF(B29="","",DATEDIF(B29,C29,"d")+1) | G29: =IF(D29="","",IF(F29>=E29,D29*(E29/E29),D29*(F29/E29)))
D30: =IF(B30="","",DATEDIF(B30,C30,"d")+1) | G30: =IF(D30="","",IF(F30>=E30,D30*(E30/E30),D30*(F30/E30)))
D31: =IF(B31="","",DATEDIF(B31,C31,"d")+1) | G31: =IF(D31="","",IF(F31>=E31,D31*(E31/E31),D31*(F31/E31)))
D32: =IF(B32="","",DATEDIF(B32,C32,"d")+1) | G32: =IF(D32="","",IF(F32>=E32,D32*(E32/E32),D32*(F32/E32)))
D33: =IF(B33="","",DATEDIF(B33,C33,"d")+1) | G33: =IF(D33="","",IF(F33>=E33,D33*(E33/E33),D33*(F33/E33)))
D34: =IF(B34="","",DATEDIF(B34,C34,"d")+1) | G34: =IF(D34="","",IF(F34>=E34,D34*(E34/E34),D34*(F34/E34)))
D35: =IF(B35="","",DATEDIF(B35,C35,"d")+1) | G35: =IF(D35="","",IF(F35>=E35,D35*(E35/E35),D35*(F35/E35)))
D36: =IF(B36="","",DATEDIF(B36,C36,"d")+1) | G36: =IF(D36="","",IF(F36>=E36,D36*(E36/E36),D36*(F36/E36)))
D37: =IF(B37="","",DATEDIF(B37,C37,"d")+1) | G37: =IF(D37="","",IF(F37>=E37,D37*(E37/E37),D37*(F37/E37)))
D38: =IF(B38="","",DATEDIF(B38,C38,"d")+1) | G38: =IF(D38="","",IF(F38>=E38,D38*(E38/E38),D38*(F38/E38)))
D39: =IF(B39="","",DATEDIF(B39,C39,"d")+1) | G39: =IF(D39="","",IF(F39>=E39,D39*(E39/E39),D39*(F39/E39)))
D40: =IF(B40="","",DATEDIF(B40,C40,"d")+1) | G40: =IF(D40="","",IF(F40>=E40,D40*(E40/E40),D40*(F40/E40)))
D41: =IF(B41="","",DATEDIF(B41,C41,"d")+1) | G41: =IF(D41="","",IF(F41>=E41,D41*(E41/E41),D41*(F41/E41)))

Sheet Total
A1: Reprise des services antérieurs
A3: A compléter et retourner signé au CDG accompagné de l'arrêté de nomination stagiaire
B6: Collectivité :
B8: Nom d'usage : | I8: Nationalité :
B9: Nom de naissance : | I9: N° de sécurité sociale :
B10: Prénom(s) : | I10: Service national ou civique : | L10: oui | M10: non | N10: du | O10: au
B11: Date et lieu de naissance : | I11: Adresse :
B12: Situation familiale :
E16: Nombre de jours | F16: Années | G16: Mois | H16: Jours | J16: Nombre de jours repris 3/4 | K16: Années | L16: Mois | M16: Jours | O16: SERVICE PUBLIC
B17: Cumul d'ancienneté | E17: ='Service public'!D9 -> 211 | F17: ='Service public'!E9 -> 0 | G17: ='Service public'!F9 -> 7 | H17: ='Service public'!G9 -> 1 | J17: ='Service public'!I9 -> 158.25 | K17: ='Service public'!J9 -> 0 | L17: ='Service public'!K9 -> 5 | M17: ='Service public'!L9 -> 8.25
B18: Services militaires | E18: =(F18*360)+(G18*30)+H18 -> 0 | F18: 0 | G18: 0 | H18: 0 | J18: =E18 -> 0 | K18: =F18 -> 0 | L18: =G18 -> 0 | M18: =H18 -> 0
B19: TOTAL | E19: =SUM(E17:E18) -> 211 | F19: =SUM(F17:F18)+IF(SUM(G17:G18)<12,0,1) -> 0 | G19: =IF(SUM(G17:G18)<12,SUM(G17:G18),SUM(G17:G18)-12) -> 7 | H19: =SUM(H17:H18) -> 1 | J19: =SUM(J17:J18) -> 158.25 | K19: =SUM(K17:K18)+IF(SUM(L17:L18)<12,0,1) -> 0 | L19: =IF(SUM(L17:L18)<12,SUM(L17:L18),SUM(L17:L18)-12) -> 5 | M19: =SUM(M17:M18) -> 8.25
E24: Nombre de jours | F24: Années | G24: Mois | H24: Jours | J24: Nombre de jours repris 1/2 | K24: Années | L24: Mois | M24: Jours | O24: SERVICE PRIVE
B25: Cumul d'ancienneté | E25: ='Service privé'!D10 -> 299.57143 | F25: ='Service privé'!E10 -> 0 | G25: ='Service privé'!F10 -> 9 | H25: ='Service privé'!G10 -> 29.571429 | J25: ='Service privé'!I10 -> 149.78571 | K25: ='Service privé'!J10 -> 0 | L25: ='Service privé'!K10 -> 4 | M25: ='Service privé'!L10 -> 29.785714
B26: Services militaires | E26: =E18 -> 0 | F26: =F18 -> 0 | G26: =G18 -> 0 | H26: =H18 -> 0 | J26: =E18 -> 0 | K26: =F18 -> 0 | L26: =G18 -> 0 | M26: =H18 -> 0
B27: TOTAL | E27: =SUM(E25:E26) -> 299.57143 | F27: =SUM(F25:F26)+IF(SUM(G25:G26)<12,0,1) -> 0 | G27: =IF(SUM(G25:G26)<12,SUM(G25:G26),SUM(G25:G26)-12) -> 9 | H27: =SUM(H25:H26) -> 29.571429 | J27: =SUM(J25:J26) -> 149.78571 | K27: =SUM(K25:K26)+IF(SUM(L25:L26)<12,0,1) -> 0 | L27: =IF(SUM(L25:L26)<12,SUM(L25:L26),SUM(L25:L26)-12) -> 4 | M27: =SUM(M25:M26) -> 29.785714
B32: Je soussigné(e) | K32: Fait à …...........................................................
K33: Le …......….......................................................
B34: certifie l'exactitude des renseignements indiqués ci-dessus et déclare opter pour la reprise de mes activités
K35: Signature de l'agent
D36: publiques | F36: privées | H36: (rayer la mention inutile)
B39: les deux périodes n'étant pas cumulables en application de l'article 8 du décret n°2016-596.
